BEGIN:VCALENDAR
VERSION:2.0
PRODID:DPCALENDAR
CALSCALE:GREGORIAN
BEGIN:VTIMEZONE
TZID:UTC
X-MICROSOFT-CDO-TZID:0
END:VTIMEZONE
X-WR-TIMEZONE:UTC
BEGIN:VEVENT
DTSTART;TZID=UTC:20190923T180000
DTEND;TZID=UTC:20190923T200000
UID:D21A8D7C-68F5-4C20-9316-3D6F8AC56EC1
SUMMARY:Aktive Schulpartnerschaft braucht informierte Eltern
DTSTAMP:20190913T200503Z
DESCRIPTION:Informierte Eltern sind Garanten für eine gelingende Schulpartnerschaft\NEltern und Schule sind verpflichtet durch ihr Zusammenwirken für die Kinder bestmögliche Lernbedingungen zu schaffen. Damit dieses Zusammenspiel gelingt, hat der Gesetzgeber einige „Spielregeln“ geschaffen, die insbesondere im Schulunterrichtsgesetz verankert sind.\NDie eigene Rolle und die Aufgaben der Schule zu kennen, erleichtert das Zusammenwirken zum Wohle der Schulgemeinschaft.\NIm Rahmen des Seminars "Aktive Schulpartnerschaft braucht informierte Eltern"\Nerhalten Sie Informationen zu folgenden Themen:\NGesetzlich geregelten Mitwirkungsmöglichkeiten für\N                                             ♠ Erziehungsberechtigte\N                                             ♠ Organe in Schulgremien: Klassenforum, Schulforum, SGA,\N                                             ♠  Funktionäre/-innen in Elternvereinen\NRechte und Pflichten dieser Personenkreise\N                     Gemeinsamkeiten, Unterschiede\NUnd last but not least wird besprochen werden, was Mütter und Väter von den PädagogInnen bzw. von ihren ElternvertreterInnen erwarten dürfen.\NFragen sind jederzeit möglich.\NReferentin: Ilse Schmid, Präsidentin LVEV\NVeranstalter: Katholischer Familienverband Steiermark - https://www.familie.at/site/steiermark/home\NAnmeldung:\N                       info-stmk@familie.at  oder 0316/8041-398\N \N♠
X-ALT-DESC;FMTTYPE=text/html:<h2>Informierte Eltern sind Garanten für eine gelingende Schulpartnerschaft</h2><p>Eltern und Schule sind verpflichtet durch ihr Zusammenwirken für die Kinder bestmögliche Lernbedingungen zu schaffen. Damit dieses Zusammenspiel gelingt, hat der Gesetzgeber einige „Spielregeln“ geschaffen, die insbesondere im Schulunterrichtsgesetz verankert sind.</p><p>Die eigene Rolle und die Aufgaben der Schule zu kennen, erleichtert das Zusammenwirken zum Wohle der Schulgemeinschaft.</p><p>Im Rahmen des Seminars "Aktive Schulpartnerschaft braucht informierte Eltern"</p><p>erhalten Sie Informationen zu folgenden Themen:</p><h3>Gesetzlich geregelten Mitwirkungsmöglichkeiten für</h3><p>&nbsp;&nbsp;&nbsp;&nbsp;&nbsp;&nbsp;&nbsp;&nbsp;&nbsp;&nbsp;&nbsp;&nbsp;&nbsp;&nbsp;&nbsp;&nbsp;&nbsp;&nbsp;&nbsp;&nbsp;&nbsp;&nbsp;&nbsp;&nbsp;&nbsp;&nbsp;&nbsp;&nbsp;&nbsp;&nbsp;&nbsp;&nbsp;&nbsp;&nbsp;&nbsp;&nbsp;&nbsp;&nbsp;&nbsp;&nbsp;&nbsp;&nbsp;&nbsp;&nbsp; ♠&nbsp;Erziehungsberechtigte</p><p>&nbsp;&nbsp;&nbsp;&nbsp;&nbsp;&nbsp;&nbsp;&nbsp;&nbsp;&nbsp;&nbsp;&nbsp;&nbsp;&nbsp;&nbsp;&nbsp;&nbsp;&nbsp;&nbsp;&nbsp;&nbsp;&nbsp;&nbsp;&nbsp;&nbsp;&nbsp;&nbsp;&nbsp;&nbsp;&nbsp;&nbsp;&nbsp;&nbsp;&nbsp;&nbsp;&nbsp;&nbsp;&nbsp;&nbsp;&nbsp;&nbsp;&nbsp;&nbsp;&nbsp; ♠ Organe in Schulgremien: Klassenforum, Schulforum, SGA,</p><p>&nbsp;&nbsp;&nbsp;&nbsp;&nbsp;&nbsp;&nbsp;&nbsp;&nbsp;&nbsp;&nbsp;&nbsp;&nbsp;&nbsp;&nbsp;&nbsp;&nbsp;&nbsp;&nbsp;&nbsp;&nbsp;&nbsp;&nbsp;&nbsp;&nbsp;&nbsp;&nbsp;&nbsp;&nbsp;&nbsp;&nbsp;&nbsp;&nbsp;&nbsp;&nbsp;&nbsp;&nbsp;&nbsp;&nbsp;&nbsp;&nbsp;&nbsp;&nbsp;&nbsp;&nbsp;♠&nbsp;&nbsp;Funktionäre/-innen in Elternvereinen</p><h3>Rechte und Pflichten dieser Personenkreise</h3><p>&nbsp;&nbsp;&nbsp;&nbsp;&nbsp;&nbsp;&nbsp;&nbsp;&nbsp;&nbsp;&nbsp;&nbsp;&nbsp;&nbsp;&nbsp;&nbsp;&nbsp;&nbsp;&nbsp;&nbsp; Gemeinsamkeiten, Unterschiede</p><p>Und last but not least wird besprochen werden, was Mütter und Väter von den PädagogInnen bzw. von ihren ElternvertreterInnen erwarten dürfen.</p><p>Fragen sind jederzeit möglich.</p><p>Referentin: Ilse Schmid, Präsidentin LVEV</p><p>Veranstalter: Katholischer Familienverband Steiermark - <a href="https://www.familie.at/site/steiermark/home">https://www.familie.at/site/steiermark/home</a></p><h3>Anmeldung:</h3><p>&nbsp;&nbsp;&nbsp;&nbsp;&nbsp;&nbsp;&nbsp;&nbsp;&nbsp;&nbsp;&nbsp;&nbsp;&nbsp;&nbsp;&nbsp;&nbsp;&nbsp;&nbsp;&nbsp;&nbsp;&nbsp;&nbsp; <a href="mailto:info-stmk@familie.at">info-stmk@familie.at</a> &nbsp;oder 0316/8041-398</p><p>&nbsp;</p><p>♠</p>
LOCATION:Bischofplatz 4\, 8010 Graz
GEO:0.00000000;0.00000000
LAST-MODIFIED:20190915T064033Z
X-ACCESS:1
X-HITS:392
X-URL:
X-COLOR:3366CC
END:VEVENT
END:VCALENDAR